BEGIN:VCALENDAR
VERSION:2.0
PRODID:-//Koninklijk Erkende Muziekvereniging Concordia - ECPv6.15.15//NONSGML v1.0//EN
CALSCALE:GREGORIAN
METHOD:PUBLISH
X-WR-CALNAME:Koninklijk Erkende Muziekvereniging Concordia
X-ORIGINAL-URL:https://concordia-loonopzand.nl
X-WR-CALDESC:Evenementen voor Koninklijk Erkende Muziekvereniging Concordia
REFRESH-INTERVAL;VALUE=DURATION:PT1H
X-Robots-Tag:noindex
X-PUBLISHED-TTL:PT1H
BEGIN:VTIMEZONE
TZID:UTC
BEGIN:STANDARD
TZOFFSETFROM:+0000
TZOFFSETTO:+0000
TZNAME:UTC
DTSTART:20240101T000000
END:STANDARD
END:VTIMEZONE
BEGIN:VEVENT
DTSTART;VALUE=DATE:20250426
DTEND;VALUE=DATE:20250427
DTSTAMP:20260420T054218
CREATED:20250207T220517Z
LAST-MODIFIED:20250207T220517Z
UID:409-1745625600-1745711999@concordia-loonopzand.nl
SUMMARY:Koningsdag
DESCRIPTION:
URL:https://concordia-loonopzand.nl/event/koningsdag/
LOCATION:het Witte Kasteel\, Kasteellaan 17\, Loon op Zand\, Netherlands
END:VEVENT
END:VCALENDAR