BEGIN:VCALENDAR
VERSION:2.0
PRODID:-//Koninklijk Erkende Muziekvereniging Concordia - ECPv6.15.15//NONSGML v1.0//EN
CALSCALE:GREGORIAN
METHOD:PUBLISH
X-WR-CALNAME:Koninklijk Erkende Muziekvereniging Concordia
X-ORIGINAL-URL:https://concordia-loonopzand.nl
X-WR-CALDESC:Evenementen voor Koninklijk Erkende Muziekvereniging Concordia
REFRESH-INTERVAL;VALUE=DURATION:PT1H
X-Robots-Tag:noindex
X-PUBLISHED-TTL:PT1H
BEGIN:VTIMEZONE
TZID:UTC
BEGIN:STANDARD
TZOFFSETFROM:+0000
TZOFFSETTO:+0000
TZNAME:UTC
DTSTART:20240101T000000
END:STANDARD
END:VTIMEZONE
BEGIN:VEVENT
DTSTART;TZID=UTC:20250605T193000
DTEND;TZID=UTC:20250605T203000
DTSTAMP:20260420T020920
CREATED:20250209T175953Z
LAST-MODIFIED:20250209T180213Z
UID:423-1749151800-1749155400@concordia-loonopzand.nl
SUMMARY:Intocht Avond-4-Daagse Loon op Zand
DESCRIPTION:
URL:https://concordia-loonopzand.nl/event/intocht-avond-4-daagse-loon-op-zand/
LOCATION:Loon op Zand
END:VEVENT
BEGIN:VEVENT
DTSTART;VALUE=DATE:20250609
DTEND;VALUE=DATE:20250610
DTSTAMP:20260420T020920
CREATED:20250209T175252Z
LAST-MODIFIED:20250209T175403Z
UID:419-1749427200-1749513599@concordia-loonopzand.nl
SUMMARY:Donge Streek Festival
DESCRIPTION:Dit jaar organiseert Muziekvereniging Concordia het Donge Streek Festival. \nEen jaarlijks terugkerende festival met diverse slagwerk en muziek korpsen. \nm.m.v. o.a. Aliance uit Lage Zwaluwe\, Oranje Garde uit Klundert
URL:https://concordia-loonopzand.nl/event/donge-streek-festival/
LOCATION:het Witte Kasteel\, Kasteellaan 17\, Loon op Zand\, Netherlands
END:VEVENT
END:VCALENDAR