BEGIN:VCALENDAR
VERSION:2.0
PRODID:-//Koninklijk Erkende Muziekvereniging Concordia - ECPv6.15.15//NONSGML v1.0//EN
CALSCALE:GREGORIAN
METHOD:PUBLISH
X-WR-CALNAME:Koninklijk Erkende Muziekvereniging Concordia
X-ORIGINAL-URL:https://concordia-loonopzand.nl
X-WR-CALDESC:Evenementen voor Koninklijk Erkende Muziekvereniging Concordia
REFRESH-INTERVAL;VALUE=DURATION:PT1H
X-Robots-Tag:noindex
X-PUBLISHED-TTL:PT1H
BEGIN:VTIMEZONE
TZID:UTC
BEGIN:STANDARD
TZOFFSETFROM:+0000
TZOFFSETTO:+0000
TZNAME:UTC
DTSTART:20240101T000000
END:STANDARD
END:VTIMEZONE
BEGIN:VEVENT
DTSTART;TZID=UTC:20250902T190000
DTEND;TZID=UTC:20250902T210000
DTSTAMP:20260419T203512
CREATED:20250522T162209Z
LAST-MODIFIED:20250522T162209Z
UID:481-1756839600-1756846800@concordia-loonopzand.nl
SUMMARY:Wijk Concert
DESCRIPTION:Locatie volgt…
URL:https://concordia-loonopzand.nl/event/wijk-concert/
END:VEVENT
BEGIN:VEVENT
DTSTART;TZID=UTC:20250921T120000
DTEND;TZID=UTC:20250921T170000
DTSTAMP:20260419T203512
CREATED:20250522T162652Z
LAST-MODIFIED:20250522T162652Z
UID:483-1758456000-1758474000@concordia-loonopzand.nl
SUMMARY:Optreden bij Landgoed Fair
DESCRIPTION:Een gezellig optreden van Muziekvereniging Concordia tijdens de Landgoed Fair
URL:https://concordia-loonopzand.nl/event/optreden-bij-landgoed-fair/
LOCATION:het Witte Kasteel\, Kasteellaan 17\, Loon op Zand\, Netherlands
END:VEVENT
END:VCALENDAR